BEGIN:VCALENDAR
VERSION:2.0
PRODID:-//Weltladen Herrenberg - ECPv6.15.20//NONSGML v1.0//EN
CALSCALE:GREGORIAN
METHOD:PUBLISH
X-WR-CALNAME:Weltladen Herrenberg
X-ORIGINAL-URL:https://weltladen-herrenberg.de
X-WR-CALDESC:Veranstaltungen für Weltladen Herrenberg
REFRESH-INTERVAL;VALUE=DURATION:PT1H
X-Robots-Tag:noindex
X-PUBLISHED-TTL:PT1H
BEGIN:VTIMEZONE
TZID:Europe/Berlin
BEGIN:DAYLIGHT
TZOFFSETFROM:+0100
TZOFFSETTO:+0200
TZNAME:CEST
DTSTART:20250330T010000
END:DAYLIGHT
BEGIN:STANDARD
TZOFFSETFROM:+0200
TZOFFSETTO:+0100
TZNAME:CET
DTSTART:20251026T010000
END:STANDARD
BEGIN:DAYLIGHT
TZOFFSETFROM:+0100
TZOFFSETTO:+0200
TZNAME:CEST
DTSTART:20260329T010000
END:DAYLIGHT
BEGIN:STANDARD
TZOFFSETFROM:+0200
TZOFFSETTO:+0100
TZNAME:CET
DTSTART:20261025T010000
END:STANDARD
BEGIN:DAYLIGHT
TZOFFSETFROM:+0100
TZOFFSETTO:+0200
TZNAME:CEST
DTSTART:20270328T010000
END:DAYLIGHT
BEGIN:STANDARD
TZOFFSETFROM:+0200
TZOFFSETTO:+0100
TZNAME:CET
DTSTART:20271031T010000
END:STANDARD
END:VTIMEZONE
BEGIN:VEVENT
DTSTART;TZID=Europe/Berlin:20260425T140000
DTEND;TZID=Europe/Berlin:20260425T160000
DTSTAMP:20260423T121600
CREATED:20260308T162739Z
LAST-MODIFIED:20260308T162739Z
UID:10609-1777125600-1777132800@weltladen-herrenberg.de
SUMMARY:Wir suchen dich! - Info-Café für Interessierte
DESCRIPTION:Wir vom Herrenberger Weltladen / Verein Faire Welt e.V. suchen Menschen \n\ndie Lust haben\, im Laden mitzuarbeiten\ndie sich in der Bildungsarbeit engagieren möchten\ndie sich in Marketing oder Pressearbeit einbringen wollen\ndie gerne Veranstaltungen organisieren\ndie für uns Filme oder Fotos machen\ndie sich für Projekte stark machen\ndie ihre Fähigkeiten ehrenamtlich einbringen und erweitern möchten\ndie unsere Arbeit durch eine Fördermitgliedschaft finanziell unterstützen wollen\n\nAkutell suchen wir ganz besonders nach jemanden\, der uns in unserem Homepage-Team unterstützt und idealerweise ein bisschen IT-Know-how mitbringt. \nInteresse? \nDann komm zu unserem Info-Café in der Spitalkirche\, dort stellen wir uns vor und möchten mit Interessierten ins Gespräch kommen. Die Vielfalt der Möglichkeiten ist riesig. Und deine Ideen und Fähigkeiten sind bei uns immer gefragt und willkommen! \nAnmeldung oder Fragen an: info@weltladen-herrenberg.de \nInfos über uns: https://weltladen-herrenberg.de/ \nWir freuen uns auf dich!
URL:https://weltladen-herrenberg.de/termin/wir-suchen-dich-info-cafe-fuer-interessierte/
LOCATION:Spitalkirche\, Tübinger Str. 4\, Herrenberg\, 71083\, Deutschland
ATTACH;FMTTYPE=image/png:https://weltladen-herrenberg.de/wp-content/uploads/2026/03/Info-Cafe-Bild.png
END:VEVENT
BEGIN:VEVENT
DTSTART;TZID=Europe/Berlin:20260429T193000
DTEND;TZID=Europe/Berlin:20260429T210000
DTSTAMP:20260423T121600
CREATED:20260410T130825Z
LAST-MODIFIED:20260413T163026Z
UID:10736-1777491000-1777496400@weltladen-herrenberg.de
SUMMARY:Unser Freund Djeralar berichtet aus dem Tschad
DESCRIPTION:Vom 13. April bis 8. Mai ist Djeralar von unserem Partnerverein Regenbogen im Tschad in Deutschland und auch in Herrenberg. \nBei dieser Veranstaltung am 29. April in der Spitalkirche berichtet er von der Arbeit des Vereins. \n2025 konnten wir insgesamt 26.500 € für die weitere Verbesserung der Trinkwasserversorgung und der Gesundheitsstationen im Projektgebiet überweisen. Damit wurde ein existierender Bohrbrunnen in Kormaye mit Solarpumpe und Wasserspeicher ausgerüstet und sowie die Kapazitäten von weiteren Solarbrunnen erweitert. Bei der Veranstaltung wird Djeralar von den Projekten und Aktivitäten des Vereins berichten und Bilder zeigen. \nDazu laden wir alle Interessierten ganz herzlich ein. \nWir danken von Herzen allen Aktiven und natürlich besonders allen Spenderinnen und Spendern\, die es ermöglicht haben\, die Projekte vom Verein Regenbogen zu unterstützen.
URL:https://weltladen-herrenberg.de/termin/unser-freund-djeralar-berichtet-aus-dem-tschad/
LOCATION:Spitalkirche\, Tübinger Str. 4\, Herrenberg\, 71083\, Deutschland
ATTACH;FMTTYPE=image/jpeg:https://weltladen-herrenberg.de/wp-content/uploads/2026/04/2025-Solarbrunnen-Kormaye.jpg
END:VEVENT
BEGIN:VEVENT
DTSTART;VALUE=DATE:20260508
DTEND;VALUE=DATE:20260510
DTSTAMP:20260423T121600
CREATED:20240417T135259Z
LAST-MODIFIED:20260413T162933Z
UID:8916-1778198400-1778371199@weltladen-herrenberg.de
SUMMARY:Frische Mangos aus Burkina Faso
DESCRIPTION:Wir verkaufen dieses Jahr wieder frische Mangos – der voraussichtliche Termin steht fest! \nDamit beteiligen wir uns wie jedes Jahr an der Aktion des Kirchenbezirks Böblingen. Die Mangos sind frisch geerntet und kommen von Familien und Bauern aus Burkina Faso. Die Qualität der Früchte war in den letzten Jahren hervorragend\, weswegen wir wieder viele Stammkunden erwarten. \nDer Erlös der Aktion kommt Schulen in Burkina Faso zugute. Es werden davon Schulmöbel und Bücher finanziert\, die Lehrergehälter werden etwas angehoben und jedes Kind bekommt ein warmes Mittagessen\, was die meist sehr armen Familien entlastet. Schöner Nebeneffekt ist\, dass mehrere Frauen sich als Köchinnen ein kleines Gehalt erwirtschaften können. \nVerkauf solange Vorrat reicht.
URL:https://weltladen-herrenberg.de/termin/frische-mangos-aus-burkina-faso/
LOCATION:Weltladen Herrenberg\, Bronngasse 2\, Herrenberg\, 71083\, Deutschland
ATTACH;FMTTYPE=image/png:https://weltladen-herrenberg.de/wp-content/uploads/2024/04/Mangos.png
END:VEVENT
BEGIN:VEVENT
DTSTART;TZID=Europe/Berlin:20260509T090000
DTEND;TZID=Europe/Berlin:20260509T140000
DTSTAMP:20260423T121600
CREATED:20260121T094222Z
LAST-MODIFIED:20260121T094222Z
UID:10496-1778317200-1778335200@weltladen-herrenberg.de
SUMMARY:Weltladentag: Fair fruchtet!
DESCRIPTION:Früchte stehen für Vielfalt\, Genuss und Lebensfreude.\nDoch hinter dem\, was bei uns selbstverständlich im Einkaufskorb landet\, steckt viel Arbeit unter schwierigen Bedingungen. \nBananen\, Orangen\, Ananas und Mangos gehören weltweit zu den beliebtesten Früchten. Doch ihre Produktion ist oft mit schwierigen Arbeitsbedingungen verbunden. Viele Menschen\, die sie anbauen und ernten\, erhalten niedrige Löhne\, arbeiten befristet oder ohne Vertrag und haben kaum Mitspracherechte. \nDer Weltladentag 2026 nimmt diese Themen in den Blick. Er zeigt\, wie Früchte produziert werden\, wer daran beteiligt ist und wie der Faire Handel entlang der Lieferketten für gerechtere Preise\, faire Entlohnung und bessere Lebensbedingungen sorgt. \nFreuen Sie sich auf vielfältige Aktionen\, Rätselspaß und Früchtegenuss vor dem Weltladen!
URL:https://weltladen-herrenberg.de/termin/weltladentag-fair-fruchtet/
LOCATION:Weltladen Herrenberg\, Bronngasse 2\, Herrenberg\, 71083\, Deutschland
ATTACH;FMTTYPE=image/jpeg:https://weltladen-herrenberg.de/wp-content/uploads/2026/01/wlt_2026_fair-fruchtet.jpg
END:VEVENT
BEGIN:VEVENT
DTSTART;TZID=Europe/Berlin:20260620T140000
DTEND;TZID=Europe/Berlin:20260620T180000
DTSTAMP:20260423T121600
CREATED:20260323T145103Z
LAST-MODIFIED:20260323T145103Z
UID:10652-1781964000-1781978400@weltladen-herrenberg.de
SUMMARY:Radtour unter dem Motto „Bio-Regional-Fair“
DESCRIPTION:Wir laden euch herzlich zu unserer nächsten Radtour unter dem Motto „Bio-Regional-Fair: Gemeinsam für eine bessere Zukunft“ ein! Die Tour wird vom ADFC und Faire Welt e.V. / Weltladen organisiert und führt uns zu spannenden regionalen Lebensmittelproduzenten\, die für nachhaltige\, biologische und fair produzierte Lebensmittel stehen. \nErste Station – Gemüsehof Rapp in Bondorf erkunden \nDer Gemüsehof Rapp in Bondorf ist nach Bioland-Richtlinien zertifiziert und baut auf rund 35 Hektar eine Vielzahl von Gemüse- und Salatsorten an. Neben frischem Bio-Gemüse gibt es im Hofladen auch Obst\, handwerklich hergestellte Käsesorten und regionale Spezialitäten. Der Gemüsehof Rapp legt großen Wert auf die Pflege des Bodens\, natürliche Düngung und pflanzlichen Schutz\, um gesunde\, geschmackvolle Lebensmittel ohne chemische Zusätze zu erzeugen. Der Gemüsehof Rapp verkauft auf dem Herrenberger Wochenmarkt jeden Dienstag und Samstag die frische Ernte\, um kurze Wege vom Feld auf den Tisch zu ermöglichen. \nFür uns gibt es hier eine Führung über den Hof und die Felder sowie einen Einblick in den Hofladen\, wo wir mehr über ihre nachhaltige Anbau-Philosophie erfahren. \nZweite Etappe –Egelerhof in Tailfingen \nBeim Egelerhof erwartet uns ein Betrieb\, der ebenfalls auf ökologische Landwirtschaft setzt. Der Hof ist auf den biologischen Anbau umgestellt und schon seit mehreren Jahren nach Bioland-Standards zertifiziert. Auf dem Egelerhof werden vor allem viele verschiedene Kartoffelsorten angebaut (zwischen 20 und 30 Sorten)\, die ohne künstliche Dünger und chemische Spritzmittel wachsen. Die Bewirtschaftung zielt darauf ab\, die Bodenfruchtbarkeit zu fördern und natürliche Kreisläufe zu unterstützen. \nAuf dem Egelerhof gibt es ein gemütliches Vesper mit frischen Kartoffeln aus der neuen Ernte mit Dipp\, sowie einige Leckereien aus dem Weltladen. \nWarum eine Tour „Bio Regional Fair“? \nFaire Welt e.V./Weltladen engagiert sich für Fairen Handel\, Klimagerechtigkeit und Solidarität in den weltweiten Handelsbeziehungen. Der ADFC für eine nachhaltige und Klimafreundliche Mobilität Beide Höfe stehen für regionale Lebensmittelproduktion\, ökologische Landwirtschaft und direkte Vermarktung vor Ort. Sie zeigen\, wie biologisch erzeugte Lebensmittel nicht nur gut für die Umwelt\, sondern auch lecker und vielfältig sein können. Durch den direkten Kontakt vor Ort erhalten wir einen Einblick in nachhaltige Produktionsweisen und können wertvolle Impulse für unseren Alltag mitnehmen. \nMit dieser Radtour möchten wir bewusst Produzenten besuchen\, die ökologisch wirtschaften – ganz im Sinne einer zukunftsorientierten Ernährung und Lebensweise. So erleben wir direkt vor Ort\, wie fairer und ökologisch verantwortungsvoller Konsum im Alltag funktioniert. \nWir freuen uns auf viele Mitradelnde\, interessante Gespräche und neue Einblicke in die Welt der Bio-Regional Lebensmittel! \nDas Tempo ist locker und gut geeignet für das Alltagsrad. Wir fahren insgesamt ca. 25 Kilometer. Im Vordergrund steht die Bewegung an der frischen Luft und eine angenehme Zeit auf dem Rad – ohne Eile und ohne sportlichen Anspruch. Uns erwartet ein erlebnisreicher Tag! \nTreffpunkt: Bahnhofsvorplatz (Bahnhofstraße) \n 
URL:https://weltladen-herrenberg.de/termin/radtour-unter-dem-motto-bio-regional-fair/
LOCATION:Bahnhof Herrenberg\, Bahnhofstraße 14\, Herrenberg\, 71083\, Deutschland
ATTACH;FMTTYPE=image/jpeg:https://weltladen-herrenberg.de/wp-content/uploads/2026/03/250712-Radtour-mit-ADFC-Wuerffel-42.jpg
END:VEVENT
END:VCALENDAR