BEGIN:VCALENDAR
VERSION:2.0
PRODID:-//Weltladen Herrenberg - ECPv6.15.20//NONSGML v1.0//EN
CALSCALE:GREGORIAN
METHOD:PUBLISH
X-WR-CALNAME:Weltladen Herrenberg
X-ORIGINAL-URL:https://weltladen-herrenberg.de
X-WR-CALDESC:Veranstaltungen für Weltladen Herrenberg
REFRESH-INTERVAL;VALUE=DURATION:PT1H
X-Robots-Tag:noindex
X-PUBLISHED-TTL:PT1H
BEGIN:VTIMEZONE
TZID:Europe/Berlin
BEGIN:DAYLIGHT
TZOFFSETFROM:+0100
TZOFFSETTO:+0200
TZNAME:CEST
DTSTART:20240331T010000
END:DAYLIGHT
BEGIN:STANDARD
TZOFFSETFROM:+0200
TZOFFSETTO:+0100
TZNAME:CET
DTSTART:20241027T010000
END:STANDARD
BEGIN:DAYLIGHT
TZOFFSETFROM:+0100
TZOFFSETTO:+0200
TZNAME:CEST
DTSTART:20250330T010000
END:DAYLIGHT
BEGIN:STANDARD
TZOFFSETFROM:+0200
TZOFFSETTO:+0100
TZNAME:CET
DTSTART:20251026T010000
END:STANDARD
BEGIN:DAYLIGHT
TZOFFSETFROM:+0100
TZOFFSETTO:+0200
TZNAME:CEST
DTSTART:20260329T010000
END:DAYLIGHT
BEGIN:STANDARD
TZOFFSETFROM:+0200
TZOFFSETTO:+0100
TZNAME:CET
DTSTART:20261025T010000
END:STANDARD
END:VTIMEZONE
BEGIN:VEVENT
DTSTART;TZID=Europe/Berlin:20250920T090000
DTEND;TZID=Europe/Berlin:20250920T130000
DTSTAMP:20260424T163159
CREATED:20250729T072007Z
LAST-MODIFIED:20250730T100840Z
UID:9850-1758358800-1758373200@weltladen-herrenberg.de
SUMMARY:Faires Frühstück - 10 Jahre Fairtrade-Stadt Herrenberg
DESCRIPTION:Lass uns Herrenberg ein (Früh-)Stück fairer machen!\nWir feiern 10 Jahre Fairtrade-Stadt Herrenberg. – Freuen Sie sich auf \n\nein leckeres und faires Frühstück\nLivemusik\nein buntes Kinderprogramm\ninteressante Infostände\n\nHerrenberg erfüllt weiterhin alle fünf Kriterien der Fairtrade-Towns Kampagne und darf für weitere zwei Jahre den Titel Fairtrade-Stadt tragen. \nDie Auszeichnung\, die erstmals 2015 vom Verein Fairtrade Deutschland verliehen wurde\, ist jetzt verlängert worden. In diesem Jahr steht also ein Jubiläum an: 10 Jahre Fairtrade-Stadt Herrenberg. \nDeshalb wollen wir zusammen feiern und laden Sie ganz herzlich zum fairen Frühstück im Innenhof des Klosterhofs ein. \nSchauen Sie vorbei und genießen Sie leckere Produkte aus fairem Handel! \nBürgermeister Stefan Metzing wird gegen 10:00 Uhr ein Grußwort sprechen. \nWir freuen uns auf Ihr Kommen!
URL:https://weltladen-herrenberg.de/termin/faires-fruehstueck-10-jahre-fairtrade-stadt-herrenberg/
LOCATION:Klosterhof\, Bronngasse 13\, Herrenberg\, 71083\, Deutschland
ATTACH;FMTTYPE=image/jpeg:https://weltladen-herrenberg.de/wp-content/uploads/2025/07/Fairtrade-Stadt-Herrenberg_Postkarte1.jpg
END:VEVENT
END:VCALENDAR