BEGIN:VCALENDAR
VERSION:2.0
PRODID:-//Weltladen Herrenberg - ECPv6.15.20//NONSGML v1.0//EN
CALSCALE:GREGORIAN
METHOD:PUBLISH
X-WR-CALNAME:Weltladen Herrenberg
X-ORIGINAL-URL:https://weltladen-herrenberg.de
X-WR-CALDESC:Veranstaltungen für Weltladen Herrenberg
REFRESH-INTERVAL;VALUE=DURATION:PT1H
X-Robots-Tag:noindex
X-PUBLISHED-TTL:PT1H
BEGIN:VTIMEZONE
TZID:Europe/Berlin
BEGIN:DAYLIGHT
TZOFFSETFROM:+0100
TZOFFSETTO:+0200
TZNAME:CEST
DTSTART:20230326T010000
END:DAYLIGHT
BEGIN:STANDARD
TZOFFSETFROM:+0200
TZOFFSETTO:+0100
TZNAME:CET
DTSTART:20231029T010000
END:STANDARD
BEGIN:DAYLIGHT
TZOFFSETFROM:+0100
TZOFFSETTO:+0200
TZNAME:CEST
DTSTART:20240331T010000
END:DAYLIGHT
BEGIN:STANDARD
TZOFFSETFROM:+0200
TZOFFSETTO:+0100
TZNAME:CET
DTSTART:20241027T010000
END:STANDARD
BEGIN:DAYLIGHT
TZOFFSETFROM:+0100
TZOFFSETTO:+0200
TZNAME:CEST
DTSTART:20250330T010000
END:DAYLIGHT
BEGIN:STANDARD
TZOFFSETFROM:+0200
TZOFFSETTO:+0100
TZNAME:CET
DTSTART:20251026T010000
END:STANDARD
END:VTIMEZONE
BEGIN:VEVENT
DTSTART;TZID=Europe/Berlin:20240912T180000
DTEND;TZID=Europe/Berlin:20240912T203000
DTSTAMP:20260425T161313
CREATED:20240619T125033Z
LAST-MODIFIED:20241113T081545Z
UID:9118-1726164000-1726173000@weltladen-herrenberg.de
SUMMARY:Podiumsveranstaltung: Fair Trade Stadt - unser Herrenberg kann mehr!
DESCRIPTION:Herrenberg ist seit dem 9. Mai 2015 Fair Trade Stadt. \nIn den ersten Jahren gab es sehr viele Aktivitäten\, koordiniert von einem Steuerungskreis und tatkräftig unterstützt durch Mitarbeiter*innen der Stadtverwaltung. Daran möchten wir anknüpfen und einen Relaunch starten. \nPodiumsgespspräch mit Nico Reith\nDazu haben wir fünf Personen für ein Podiumsgespräch eingeladen\, Oberbürgermeister Nico Reith hat bereits zugesagt. Wir möchten die Anliegen der Fair Trade Stadt wieder ins Gedächtnis rufen\, neue Impulse setzen und im Austausch auf der Bühne und mit den Besucher*innen neue Ideen entwickeln\, wie der Faire Handel in Herrenberg wieder breiter aufgestellt werden kann und\nneue Unterstützer*innen und Akteure gewonnen werden. \nFreuen Sie sich mit uns auf einen spannenden Abend! \nGefördert durch ENGAGEMENT GLOBAL mit Mitteln des Bundesministeriums für wirtschaftliche Zusammenarbeit und Entwicklung.
URL:https://weltladen-herrenberg.de/termin/podiumsveranstaltung-fair-trade-stadt-unser-herrenberg-kann-mehr/
LOCATION:Spitalkirche\, Tübinger Str. 4\, Herrenberg\, 71083\, Deutschland
ATTACH;FMTTYPE=image/jpeg:https://weltladen-herrenberg.de/wp-content/uploads/2024/06/www.fairtradestadt-herrenberg.jpg
END:VEVENT
END:VCALENDAR