BEGIN:VCALENDAR
VERSION:2.0
PRODID:-//Weltladen Herrenberg - ECPv6.15.20//NONSGML v1.0//EN
CALSCALE:GREGORIAN
METHOD:PUBLISH
X-WR-CALNAME:Weltladen Herrenberg
X-ORIGINAL-URL:https://weltladen-herrenberg.de
X-WR-CALDESC:Veranstaltungen für Weltladen Herrenberg
REFRESH-INTERVAL;VALUE=DURATION:PT1H
X-Robots-Tag:noindex
X-PUBLISHED-TTL:PT1H
BEGIN:VTIMEZONE
TZID:Europe/Berlin
BEGIN:DAYLIGHT
TZOFFSETFROM:+0100
TZOFFSETTO:+0200
TZNAME:CEST
DTSTART:20240331T010000
END:DAYLIGHT
BEGIN:STANDARD
TZOFFSETFROM:+0200
TZOFFSETTO:+0100
TZNAME:CET
DTSTART:20241027T010000
END:STANDARD
BEGIN:DAYLIGHT
TZOFFSETFROM:+0100
TZOFFSETTO:+0200
TZNAME:CEST
DTSTART:20250330T010000
END:DAYLIGHT
BEGIN:STANDARD
TZOFFSETFROM:+0200
TZOFFSETTO:+0100
TZNAME:CET
DTSTART:20251026T010000
END:STANDARD
BEGIN:DAYLIGHT
TZOFFSETFROM:+0100
TZOFFSETTO:+0200
TZNAME:CEST
DTSTART:20260329T010000
END:DAYLIGHT
BEGIN:STANDARD
TZOFFSETFROM:+0200
TZOFFSETTO:+0100
TZNAME:CET
DTSTART:20261025T010000
END:STANDARD
END:VTIMEZONE
BEGIN:VEVENT
DTSTART;TZID=Europe/Berlin:20251104T093000
DTEND;TZID=Europe/Berlin:20251104T183000
DTSTAMP:20260424T205109
CREATED:20251022T124811Z
LAST-MODIFIED:20251022T124848Z
UID:10164-1762248600-1762281000@weltladen-herrenberg.de
SUMMARY:Eröffnung des neu gestalteten Weltladens
DESCRIPTION:Wir gestalten unseren Weltladen neu und erweitern die Ladenfläche – und das möchten wir mit Ihnen feiern!\nFreuen Sie sich mit uns auf ein noch größeres Sortiment und vor allem auf mehr Platz für Bekleidung und Accessoires. Kommen Sie vorbei\, stöbern Sie entspannt und erleben Sie fairen Handel direkt vor Ort am Herrenberger Marktplatz. Wir möchten zeigen\, wie fair gehandelte Produkte zu besseren Lebens- und Arbeitsbedingungen in Ländern des Globalen Südens beitragen. \n Am Dienstag\, den 4. November 2025 geht‘s los – das möchten wir gebührend feiern und laden Sie an diesem Tag herzlich zu einem Glas Secco ein. \nIn der gesamten Eröffnungswoche bieten wir Verkostungen von Tee\, Schokocreme und Trockenfrüchten an\, damit Sie den fairen Handel auch geschmacklich erleben können. \nWir freuen uns auf viele schöne Begegnungen in unserem erneuerten Weltladen. \nIhr Team des Herrenberger Weltladens
URL:https://weltladen-herrenberg.de/termin/eroeffnung-des-neu-gestalteten-und-erweiterten-weltladens/
LOCATION:Weltladen Herrenberg\, Bronngasse 2\, Herrenberg\, 71083\, Deutschland
ATTACH;FMTTYPE=image/png:https://weltladen-herrenberg.de/wp-content/uploads/2025/10/Bild-Termin-Eroeffnungswoche.png
END:VEVENT
BEGIN:VEVENT
DTSTART;TZID=Europe/Berlin:20251122T140000
DTEND;TZID=Europe/Berlin:20251122T160000
DTSTAMP:20260424T205109
CREATED:20250604T081837Z
LAST-MODIFIED:20251015T094207Z
UID:9786-1763820000-1763827200@weltladen-herrenberg.de
SUMMARY:Info-Café für Interessierte
DESCRIPTION:Wir vom Herrenberger Weltladen / Verein Faire Welt e.V. suchen Menschen \n\ndie Lust haben\, im Laden mitzuarbeiten\ndie sich in der Bildungsarbeit engagieren möchten\ndie sich in Marketing oder Pressearbeit einbringen wollen\ndie gerne Veranstaltungen organisieren\ndie für uns Filme oder Fotos machen\ndie sich für Projekte stark machen\ndie ihre Fähigkeiten ehrenamtlich einbringen und erweitern möchten\ndie unsere Arbeit durch eine Fördermitgliedschaft finanziell unterstützen wollen\n\nInteresse? \nDann komm zu unserem Info-Café in der Spitalkirche\, dort stellen wir uns vor und möchten mit Interessierten ins Gespräch kommen. Die Vielfalt der Möglichkeiten ist riesig. Und deine Ideen und Fähigkeiten sind bei uns immer gefragt und willkommen! \nAnmeldung oder Fragen an: info@weltladen-herrenberg.de \nInfos über uns: https://weltladen-herrenberg.de/ \nWir freuen uns auf dich!
URL:https://weltladen-herrenberg.de/termin/info-cafe-fuer-interessierte-2/
LOCATION:Spitalkirche\, Tübinger Str. 4\, Herrenberg\, 71083\, Deutschland
ATTACH;FMTTYPE=image/jpeg:https://weltladen-herrenberg.de/wp-content/uploads/2025/02/Wir-suchen-dich.jpg
END:VEVENT
END:VCALENDAR