BEGIN:VCALENDAR
VERSION:2.0
PRODID:-//Weltladen Herrenberg - ECPv6.15.20//NONSGML v1.0//EN
CALSCALE:GREGORIAN
METHOD:PUBLISH
X-WR-CALNAME:Weltladen Herrenberg
X-ORIGINAL-URL:https://weltladen-herrenberg.de
X-WR-CALDESC:Veranstaltungen für Weltladen Herrenberg
REFRESH-INTERVAL;VALUE=DURATION:PT1H
X-Robots-Tag:noindex
X-PUBLISHED-TTL:PT1H
BEGIN:VTIMEZONE
TZID:Europe/Berlin
BEGIN:DAYLIGHT
TZOFFSETFROM:+0100
TZOFFSETTO:+0200
TZNAME:CEST
DTSTART:20230326T010000
END:DAYLIGHT
BEGIN:STANDARD
TZOFFSETFROM:+0200
TZOFFSETTO:+0100
TZNAME:CET
DTSTART:20231029T010000
END:STANDARD
BEGIN:DAYLIGHT
TZOFFSETFROM:+0100
TZOFFSETTO:+0200
TZNAME:CEST
DTSTART:20240331T010000
END:DAYLIGHT
BEGIN:STANDARD
TZOFFSETFROM:+0200
TZOFFSETTO:+0100
TZNAME:CET
DTSTART:20241027T010000
END:STANDARD
BEGIN:DAYLIGHT
TZOFFSETFROM:+0100
TZOFFSETTO:+0200
TZNAME:CEST
DTSTART:20250330T010000
END:DAYLIGHT
BEGIN:STANDARD
TZOFFSETFROM:+0200
TZOFFSETTO:+0100
TZNAME:CET
DTSTART:20251026T010000
END:STANDARD
END:VTIMEZONE
BEGIN:VEVENT
DTSTART;TZID=Europe/Berlin:20240504T140000
DTEND;TZID=Europe/Berlin:20240504T170000
DTSTAMP:20260425T164628
CREATED:20240101T171834Z
LAST-MODIFIED:20240206T084602Z
UID:8429-1714831200-1714842000@weltladen-herrenberg.de
SUMMARY:Abschlussfest: Wir Kinder der Welt an einem Tisch
DESCRIPTION:Wir laden ein zum großen Abschlussfest unseres Projektes „Wir Kinder der Welt an einem Tisch“. \nIn diesem Projekt beschäftigen sich Kinder in Kitas und Schulen mit einem bestimmten Land und gestalten gemeinsam einen Stuhl\, der bei unserem Kinder- und Familienfest zu bewundern ist. Schauen Sie die „Stühle der Nationen“ an und feiern Sie mit uns den Projektabschluss mit Spiel und Spaß im Ottoschen Garten. \nKooperationspartner: \n\nEntwicklungspolitisches Informationszentrum\nHilde-Domin-Schule\nAmt für Kinder und Familie\nBananologen\nStadtbibliothek\n\nWeitere Informationen:\n> Mehr über die Aktion\n> Einladung an Kitas und Grundschulen\n> Buchtipps für die Aktion \nProjektförderung:\nGefördert durch ENGAGEMENT GLOBAL mit Mitteln des Bundesministeriums für wirtschaftliche Zusammenarbeit und Entwicklung.
URL:https://weltladen-herrenberg.de/termin/abschlussfest-wir-kinder-der-welt-an-einem-tisch/
LOCATION:Ottoscher Garten\, Richthofenstraße\, Herrenberg\, 71083\, Deutschland
ATTACH;FMTTYPE=image/jpeg:https://weltladen-herrenberg.de/wp-content/uploads/2023/12/Kinder-der-Welt.jpg
END:VEVENT
END:VCALENDAR