BEGIN:VCALENDAR
VERSION:2.0
PRODID:-//Weltladen Herrenberg - ECPv6.15.20//NONSGML v1.0//EN
CALSCALE:GREGORIAN
METHOD:PUBLISH
X-ORIGINAL-URL:https://weltladen-herrenberg.de
X-WR-CALDESC:Veranstaltungen für Weltladen Herrenberg
REFRESH-INTERVAL;VALUE=DURATION:PT1H
X-Robots-Tag:noindex
X-PUBLISHED-TTL:PT1H
BEGIN:VTIMEZONE
TZID:Europe/Berlin
BEGIN:DAYLIGHT
TZOFFSETFROM:+0100
TZOFFSETTO:+0200
TZNAME:CEST
DTSTART:20230326T010000
END:DAYLIGHT
BEGIN:STANDARD
TZOFFSETFROM:+0200
TZOFFSETTO:+0100
TZNAME:CET
DTSTART:20231029T010000
END:STANDARD
BEGIN:DAYLIGHT
TZOFFSETFROM:+0100
TZOFFSETTO:+0200
TZNAME:CEST
DTSTART:20240331T010000
END:DAYLIGHT
BEGIN:STANDARD
TZOFFSETFROM:+0200
TZOFFSETTO:+0100
TZNAME:CET
DTSTART:20241027T010000
END:STANDARD
BEGIN:DAYLIGHT
TZOFFSETFROM:+0100
TZOFFSETTO:+0200
TZNAME:CEST
DTSTART:20250330T010000
END:DAYLIGHT
BEGIN:STANDARD
TZOFFSETFROM:+0200
TZOFFSETTO:+0100
TZNAME:CET
DTSTART:20251026T010000
END:STANDARD
END:VTIMEZONE
BEGIN:VEVENT
DTSTART;TZID=Europe/Berlin:20240420T100000
DTEND;TZID=Europe/Berlin:20240420T140000
DTSTAMP:20260425T003750
CREATED:20240101T170655Z
LAST-MODIFIED:20240118T132936Z
UID:8425-1713607200-1713621600@weltladen-herrenberg.de
SUMMARY:Kleidertauschbörse mit Ausstellung "Future Fashion"
DESCRIPTION:Nichts anzuziehen? – Kommen Sie in der Spitalkirche vorbei\, bringen Sie Kleider mit\, die Sie nicht mehr benötigen und nehmen Sie dafür neue Kleiderschätze mit nach Hause. Und machen Sie es sich davor oder danach ganz entspannt mit Kaffee und Kuchen im Spitalcafé gemütlich. \nIn Zusammenarbeit mit den Bananologen\, dem Gleichstellungsbüro der Stadt Herrenberg\, der evangelischen Erwachsenenbildung und Fridays for Future laden wir zu dieser kurzweiligen und informativen Aktion ein. Machen Sie mit!
URL:https://weltladen-herrenberg.de/termin/kleidertauschboerse-mit-ausstellung-fast-fashion/
LOCATION:Spitalkirche\, Tübinger Str. 4\, Herrenberg\, 71083\, Deutschland
ATTACH;FMTTYPE=image/jpeg:https://weltladen-herrenberg.de/wp-content/uploads/2024/01/Kleidertausch.jpg
END:VEVENT
END:VCALENDAR