BEGIN:VCALENDAR
VERSION:2.0
PRODID:-//Weltladen Herrenberg - ECPv6.15.20//NONSGML v1.0//EN
CALSCALE:GREGORIAN
METHOD:PUBLISH
X-ORIGINAL-URL:https://weltladen-herrenberg.de
X-WR-CALDESC:Veranstaltungen für Weltladen Herrenberg
REFRESH-INTERVAL;VALUE=DURATION:PT1H
X-Robots-Tag:noindex
X-PUBLISHED-TTL:PT1H
BEGIN:VTIMEZONE
TZID:Europe/Berlin
BEGIN:DAYLIGHT
TZOFFSETFROM:+0100
TZOFFSETTO:+0200
TZNAME:CEST
DTSTART:20240331T010000
END:DAYLIGHT
BEGIN:STANDARD
TZOFFSETFROM:+0200
TZOFFSETTO:+0100
TZNAME:CET
DTSTART:20241027T010000
END:STANDARD
BEGIN:DAYLIGHT
TZOFFSETFROM:+0100
TZOFFSETTO:+0200
TZNAME:CEST
DTSTART:20250330T010000
END:DAYLIGHT
BEGIN:STANDARD
TZOFFSETFROM:+0200
TZOFFSETTO:+0100
TZNAME:CET
DTSTART:20251026T010000
END:STANDARD
BEGIN:DAYLIGHT
TZOFFSETFROM:+0100
TZOFFSETTO:+0200
TZNAME:CEST
DTSTART:20260329T010000
END:DAYLIGHT
BEGIN:STANDARD
TZOFFSETFROM:+0200
TZOFFSETTO:+0100
TZNAME:CET
DTSTART:20261025T010000
END:STANDARD
END:VTIMEZONE
BEGIN:VEVENT
DTSTART;TZID=Europe/Berlin:20250712T130000
DTEND;TZID=Europe/Berlin:20250712T170000
DTSTAMP:20260424T163158
CREATED:20250601T091108Z
LAST-MODIFIED:20250601T091108Z
UID:9764-1752325200-1752339600@weltladen-herrenberg.de
SUMMARY:Radtour Fair und Regional
DESCRIPTION:Faire Welt e.V. und ADFC laden ein!\nAn vier Stationen erfahren die Teilnehmenden wie sich Produzent*innen\, Handel und Bürger*innen für Nachhaltigkeit und Fairness engagieren. \nMit ihrem HORTUS HERRENBERGENSIS hat die HORTUS-Gruppe eine Oase geschaffen\, die inspiriert und zeigt\, wie eine nachhaltige Gartengestaltung funktionieren kann. Norbert Heumüller führt in die Grundlagen dieser Gestaltung ein. \nBei MAYCOFFEE (Gültstein) präsentiert Kevin Bandel seine Rösterei und informiert über seine Kaffees und den Herrenberger Stadtkaffee. Nach der Vorführung eines Röstvorgangs ist Gelegenheit zum Trinken einer Tasse Kaffee. \nDie HOFKÄSEREI ZIMMERMANN (Tailfingen)\, Mitglied der Slowfood-Bewegung\, präsentiert ihren handwerklich gefertigten Käse aus der Region und gibt einen Einblick in ihre Arbeit. \nIm WELTLADEN erfahren die Teilnehmenden mehr über die Geschichte des fairen Handels und des Weltladens. Häppchen und Getränke laden ein zum Verweilen. \n\nStart: 12. Juli 2025 um 13.00 Uhr an der Infotafel am Bahnhof in Herrenberg\nEnde: gegen 17.00 Uhr beim Weltladen am Marktplatz in Herrenberg
URL:https://weltladen-herrenberg.de/termin/radtour-fair-und-regional/
LOCATION:Bahnhof Herrenberg\, 71083 Herrenberg\, Bahnhofstraße\, 71083\, 71083\, Germany
ATTACH;FMTTYPE=image/jpeg:https://weltladen-herrenberg.de/wp-content/uploads/2025/06/P1040890.jpg
END:VEVENT
END:VCALENDAR