BEGIN:VCALENDAR
VERSION:2.0
PRODID:-//Weltladen Herrenberg - ECPv6.15.20//NONSGML v1.0//EN
CALSCALE:GREGORIAN
METHOD:PUBLISH
X-ORIGINAL-URL:https://weltladen-herrenberg.de
X-WR-CALDESC:Veranstaltungen für Weltladen Herrenberg
REFRESH-INTERVAL;VALUE=DURATION:PT1H
X-Robots-Tag:noindex
X-PUBLISHED-TTL:PT1H
BEGIN:VTIMEZONE
TZID:Europe/Berlin
BEGIN:DAYLIGHT
TZOFFSETFROM:+0100
TZOFFSETTO:+0200
TZNAME:CEST
DTSTART:20230326T010000
END:DAYLIGHT
BEGIN:STANDARD
TZOFFSETFROM:+0200
TZOFFSETTO:+0100
TZNAME:CET
DTSTART:20231029T010000
END:STANDARD
BEGIN:DAYLIGHT
TZOFFSETFROM:+0100
TZOFFSETTO:+0200
TZNAME:CEST
DTSTART:20240331T010000
END:DAYLIGHT
BEGIN:STANDARD
TZOFFSETFROM:+0200
TZOFFSETTO:+0100
TZNAME:CET
DTSTART:20241027T010000
END:STANDARD
BEGIN:DAYLIGHT
TZOFFSETFROM:+0100
TZOFFSETTO:+0200
TZNAME:CEST
DTSTART:20250330T010000
END:DAYLIGHT
BEGIN:STANDARD
TZOFFSETFROM:+0200
TZOFFSETTO:+0100
TZNAME:CET
DTSTART:20251026T010000
END:STANDARD
END:VTIMEZONE
BEGIN:VEVENT
DTSTART;TZID=Europe/Berlin:20240112T190000
DTEND;TZID=Europe/Berlin:20240112T203000
DTSTAMP:20260426T055127
CREATED:20231231T160407Z
LAST-MODIFIED:20240206T084806Z
UID:8386-1705086000-1705091400@weltladen-herrenberg.de
SUMMARY:Vortrag: Klimagerechtigkeit und Fairer Handel
DESCRIPTION:Die Klimakrise ist allgegenwärtig. Dürren\, Hitzesommer\, Überschwemmungen\, all das sind Anzeichen dafür\, dass wir global gesehen die planetaren Grenzen überschritten haben. Die Krise macht sich jedoch vor allem im Globalen Süden bemerkbar. Die Partner\, deren Produkte wir verkaufen oder deren Projekte wir unterstützen leben weitgehend in Ländern\, die nur wenig zum Klimawandel beigetragen haben\, aber schon jetzt massiv darunter leiden. An diesem Abend erfahren Sie mehr über die Klimaungerechtigkeiten und den Beitrag\, den der Faire Handel zu Klimagerechtigkeit leistet und den Herrenberg und jede/r einzelne von uns leisten kann. \nVortrag mit Silke Bölts\, Referentin für Klimaschutz und Fairen Handel im Forum Fairer Handel in Berlin. \nGefördert durch ENGAGEMENT GLOBAL mit Mitteln des Bundesministeriums für wirtschaftliche Zusammenarbeit und Entwicklung.
URL:https://weltladen-herrenberg.de/termin/vortrag-klimagerechtigkeit-und-fairer-handel/
LOCATION:Spitalkirche\, Tübinger Str. 4\, Herrenberg\, 71083\, Deutschland
ATTACH;FMTTYPE=image/jpeg:https://weltladen-herrenberg.de/wp-content/uploads/2023/12/Grafik-Forum-Fairer-Handel.jpg
END:VEVENT
END:VCALENDAR