BEGIN:VCALENDAR
VERSION:2.0
PRODID:-//Weltladen Herrenberg - ECPv6.15.20//NONSGML v1.0//EN
CALSCALE:GREGORIAN
METHOD:PUBLISH
X-ORIGINAL-URL:https://weltladen-herrenberg.de
X-WR-CALDESC:Veranstaltungen für Weltladen Herrenberg
REFRESH-INTERVAL;VALUE=DURATION:PT1H
X-Robots-Tag:noindex
X-PUBLISHED-TTL:PT1H
BEGIN:VTIMEZONE
TZID:Europe/Berlin
BEGIN:DAYLIGHT
TZOFFSETFROM:+0100
TZOFFSETTO:+0200
TZNAME:CEST
DTSTART:20230326T010000
END:DAYLIGHT
BEGIN:STANDARD
TZOFFSETFROM:+0200
TZOFFSETTO:+0100
TZNAME:CET
DTSTART:20231029T010000
END:STANDARD
BEGIN:DAYLIGHT
TZOFFSETFROM:+0100
TZOFFSETTO:+0200
TZNAME:CEST
DTSTART:20240331T010000
END:DAYLIGHT
BEGIN:STANDARD
TZOFFSETFROM:+0200
TZOFFSETTO:+0100
TZNAME:CET
DTSTART:20241027T010000
END:STANDARD
BEGIN:DAYLIGHT
TZOFFSETFROM:+0100
TZOFFSETTO:+0200
TZNAME:CEST
DTSTART:20250330T010000
END:DAYLIGHT
BEGIN:STANDARD
TZOFFSETFROM:+0200
TZOFFSETTO:+0100
TZNAME:CET
DTSTART:20251026T010000
END:STANDARD
END:VTIMEZONE
BEGIN:VEVENT
DTSTART;VALUE=DATE:20240907
DTEND;VALUE=DATE:20241110
DTSTAMP:20260425T170846
CREATED:20240718T114945Z
LAST-MODIFIED:20240718T114945Z
UID:9174-1725667200-1731196799@weltladen-herrenberg.de
SUMMARY:Stühle-Ausstellung im KunstWerk Dengler
DESCRIPTION:Die Stühle unserer Jubiläumsaktion “Wir Kinder der Welt an einem Tisch” werden jetzt zwei Monate lang ausgestellt. Darüber freuen wir uns sehr! \nAusstellung der Stühle im KunstWerk „Dengler“ vom 7. September bis 9. November\nÖffnungszeiten:\nFreitags 18 – 20 Uhr\nSamstags 10 – 14 Uhr (oder individuell nach Vereinbarung) \nZum Projekt:\nWir haben Herrenberger Kitas und Grundschulen eingeladen\, gemeinsam mit den Kindern ihrer Einrichtungen auf Erkundungstour zu gehen und die Vielfalt der Kinder in der Welt genauer zu betrachten! Ihre gemeinsamen Erfahrungen und Erkenntnisse wurden über die kreativ gestalteten Stühle mit allen Herrenberg Bürgerinnen und Bürgern geteilt beim Familienfest im Otto’schen Garten und im Anschluss in Herrenberger Geschäften und Institutionen. \nNun können die Stühle nochmal im „Dengler“ bestaunt werden.\nHerzliche Einladung zur Eröffnung am 7.9. um 11.00 Uhr\nSchauen Sie vorbei und bewundern Sie die Stühle der kleinen Künstlerinnen und Künstler. Für Kuchensnacks zur Stärkung wird gesorgt. \nKooperationspartner: \n\nAmt für Kinder und Familie\nStadtbibliothek\nHilde-Domin-Schule\nEntwicklungspolitisches Informationszentrum Reutlingen\nHerrenberger Geschäfte\nKunstverein Herrenberg\n\n \nKontakt: Martin Petry\, 0172 9491610 oder petrymartin@t-online.de
URL:https://weltladen-herrenberg.de/termin/stuehle-ausstellung-im-kunstwerk-dengler/
LOCATION:KunstWerk „Dengler“\, Tübinger Str. 8\, Herrenberg\, 71083\, Deutschland
ATTACH;FMTTYPE=image/jpeg:https://weltladen-herrenberg.de/wp-content/uploads/2024/07/Wir-Kinder-der-Welt-an-einem-Tisch-4623.jpg
END:VEVENT
END:VCALENDAR