BEGIN:VCALENDAR
VERSION:2.0
PRODID:-//Weltladen Herrenberg - ECPv6.15.20//NONSGML v1.0//EN
CALSCALE:GREGORIAN
METHOD:PUBLISH
X-WR-CALNAME:Weltladen Herrenberg
X-ORIGINAL-URL:https://weltladen-herrenberg.de
X-WR-CALDESC:Veranstaltungen für Weltladen Herrenberg
REFRESH-INTERVAL;VALUE=DURATION:PT1H
X-Robots-Tag:noindex
X-PUBLISHED-TTL:PT1H
BEGIN:VTIMEZONE
TZID:Europe/Berlin
BEGIN:DAYLIGHT
TZOFFSETFROM:+0100
TZOFFSETTO:+0200
TZNAME:CEST
DTSTART:20240331T010000
END:DAYLIGHT
BEGIN:STANDARD
TZOFFSETFROM:+0200
TZOFFSETTO:+0100
TZNAME:CET
DTSTART:20241027T010000
END:STANDARD
BEGIN:DAYLIGHT
TZOFFSETFROM:+0100
TZOFFSETTO:+0200
TZNAME:CEST
DTSTART:20250330T010000
END:DAYLIGHT
BEGIN:STANDARD
TZOFFSETFROM:+0200
TZOFFSETTO:+0100
TZNAME:CET
DTSTART:20251026T010000
END:STANDARD
BEGIN:DAYLIGHT
TZOFFSETFROM:+0100
TZOFFSETTO:+0200
TZNAME:CEST
DTSTART:20260329T010000
END:DAYLIGHT
BEGIN:STANDARD
TZOFFSETFROM:+0200
TZOFFSETTO:+0100
TZNAME:CET
DTSTART:20261025T010000
END:STANDARD
END:VTIMEZONE
BEGIN:VEVENT
DTSTART;TZID=Europe/Berlin:20251213T100000
DTEND;TZID=Europe/Berlin:20251213T170000
DTSTAMP:20260424T203844
CREATED:20251209T185209Z
LAST-MODIFIED:20251209T185209Z
UID:10421-1765620000-1765645200@weltladen-herrenberg.de
SUMMARY:Aktion für den Wohnheimbau in Nigeria
DESCRIPTION:Wir laden Sie ein zu unserer Aktion für unser Partnerschaftsprojekt in Nigeria. \nFreuen Sie sich auf \n\nPunsch\nGlühwein\nVerlosung\n\nDie Spenden für die Getränke und Einnahmen des Losverkaufs gehen vollständig an unseren Partner Komo des Village Pioneer Projekts (VPP) und werden für den Bau eines Wohnheims für Auszubildende verwendet. Damit soll noch mehr jungen Menschen aus armen Verhältnissen aus verschiedenen Regionen Nigerias im Kulturzentrum in Ikere eine Ausbildung im nachhaltigen Landbau und Ressourcen Management ermöglicht werden. \nFür Fragen\, Austausch und mehr Information zum Projekt stehen Aktive aus der Partnerschaftsgruppe des Vereins bereit. \nWir freuen uns über Ihre/ Eure Unterstützung.
URL:https://weltladen-herrenberg.de/termin/aktion-fuer-den-wohnheimbau-in-nigeria/
LOCATION:Weltladen Herrenberg\, Bronngasse 2\, Herrenberg\, 71083\, Deutschland
ATTACH;FMTTYPE=image/png:https://weltladen-herrenberg.de/wp-content/uploads/2025/12/Grafik-Spendenaktion-final-Kopie.png
END:VEVENT
END:VCALENDAR